BEGIN:VCALENDAR
VERSION:2.0
PRODID:-//eventon.com NONSGML v1.0//EN
CALSCALE:GREGORIAN
METHOD:PUBLISH
BEGIN:VEVENT
UID:69eba372b7ee3
DTSTAMP:20260424T170802Z
DTSTART:20241119T170000Z
DTEND:20241119T200000Z
LOCATION:Tycoon 811 International Pkwy #410
SUMMARY:BOGO Lunch Special
DESCRIPTION:Get ready to treat yourself at Tycoon! Our Buy One\,  Get One F
 ree Lunch Special is here\,  and it&#8217;s the perfect excuse to enjoy our
  signature dishes. Gather a friend and come enjoy our vibrant atmosphere an
 d delicious flavors. This offer is available Monday through Friday\,  from 
 November 19th to[..]\nhttps://tycoonflowermound.com/events/bogo-lunch-speci
 al/
URL:https://tycoonflowermound.com/events/bogo-lunch-special/
END:VEVENT
END:VCALENDAR